BEGIN:VCALENDAR
VERSION:2.0
PRODID:-//Canadian Channel Chiefs Council - ECPv6.9.1//NONSGML v1.0//EN
CALSCALE:GREGORIAN
METHOD:PUBLISH
X-WR-CALNAME:Canadian Channel Chiefs Council
X-ORIGINAL-URL:https://channelchiefs.ca
X-WR-CALDESC:Events for Canadian Channel Chiefs Council
REFRESH-INTERVAL;VALUE=DURATION:PT1H
X-Robots-Tag:noindex
X-PUBLISHED-TTL:PT1H
BEGIN:VTIMEZONE
TZID:America/Toronto
BEGIN:DAYLIGHT
TZOFFSETFROM:-0500
TZOFFSETTO:-0400
TZNAME:EDT
DTSTART:20220313T070000
END:DAYLIGHT
BEGIN:STANDARD
TZOFFSETFROM:-0400
TZOFFSETTO:-0500
TZNAME:EST
DTSTART:20221106T060000
END:STANDARD
END:VTIMEZONE
BEGIN:VEVENT
DTSTART;TZID=America/Toronto:20221208T180000
DTEND;TZID=America/Toronto:20221208T210000
DTSTAMP:20260419T124951
CREATED:20220504T210613Z
LAST-MODIFIED:20221025T171132Z
UID:3460-1670522400-1670533200@channelchiefs.ca
SUMMARY:C4  Holiday Mixer
DESCRIPTION:Thursday\, December 8th\, 6:00PM to 9PM EST\nAga Khan Museum\, 77 Wynford Dr\, North York \n\nWe invite you to join us for our C4 Holiday Party. This in-person event will be hosted at the Aga Khan Museum\, the perfect venue to mix & mingle with channel leaders. \n\nKeep an eye out for additional event details in the weeks to come.
URL:https://channelchiefs.ca/professional-development/c4-holiday-mixer/
LOCATION:Aga Khan Museum\, 77 Wynford Dr\, North York\, Toronto\, ON\, Canada
END:VEVENT
END:VCALENDAR