BEGIN:VCALENDAR
VERSION:2.0
PRODID:-//Canadian Channel Chiefs Council - ECPv6.9.1//NONSGML v1.0//EN
CALSCALE:GREGORIAN
METHOD:PUBLISH
X-ORIGINAL-URL:https://channelchiefs.ca
X-WR-CALDESC:Events for Canadian Channel Chiefs Council
REFRESH-INTERVAL;VALUE=DURATION:PT1H
X-Robots-Tag:noindex
X-PUBLISHED-TTL:PT1H
BEGIN:VTIMEZONE
TZID:America/Toronto
BEGIN:DAYLIGHT
TZOFFSETFROM:-0500
TZOFFSETTO:-0400
TZNAME:EDT
DTSTART:20220313T070000
END:DAYLIGHT
BEGIN:STANDARD
TZOFFSETFROM:-0400
TZOFFSETTO:-0500
TZNAME:EST
DTSTART:20221106T060000
END:STANDARD
END:VTIMEZONE
BEGIN:VEVENT
DTSTART;TZID=America/Toronto:20221101T120000
DTEND;TZID=America/Toronto:20221101T143000
DTSTAMP:20260419T142352
CREATED:20220922T233307Z
LAST-MODIFIED:20220923T172604Z
UID:3572-1667304000-1667313000@channelchiefs.ca
SUMMARY:C4 Marketing Luncheon - How to Engage the Sales Organization in Social Selling
DESCRIPTION:The Canadian Channel Chiefs Council invites you to a Channel Marketing Professional luncheon to talk about social selling. \nOn November 1st\, 2022 \, from 12:00pm to 2:30:pm ET\, Join your marketing colleagues for an in-person luncheon for a conversation on How to Engage the Sales Organization in Social Selling. \nThe conversation will be led by Fawn Annan\, CEO and Office of the CMO for ITWC. and Jennifer Villers\, Marketing\nLeader\, Ingram Micro. \nThe luncheon is sponsored by Ingram Micro\, held in their Mississauga Office\, located at 55 Standish Court.
URL:https://channelchiefs.ca/professional-development/c4-marketing-luncheon-how-to-engage-the-sales-organization-in-social-selling/
LOCATION:Ingram Micro Mississauga Office\, 55 Standish Court\, Mississauga\, ON\, L5R 4B2\, Canada
END:VEVENT
END:VCALENDAR