BEGIN:VCALENDAR
VERSION:2.0
PRODID:-//Canadian Channel Chiefs Council - ECPv6.9.1//NONSGML v1.0//EN
CALSCALE:GREGORIAN
METHOD:PUBLISH
X-WR-CALNAME:Canadian Channel Chiefs Council
X-ORIGINAL-URL:https://channelchiefs.ca
X-WR-CALDESC:Events for Canadian Channel Chiefs Council
REFRESH-INTERVAL;VALUE=DURATION:PT1H
X-Robots-Tag:noindex
X-PUBLISHED-TTL:PT1H
BEGIN:VTIMEZONE
TZID:UTC
BEGIN:STANDARD
TZOFFSETFROM:+0000
TZOFFSETTO:+0000
TZNAME:UTC
DTSTART:20220101T000000
END:STANDARD
END:VTIMEZONE
BEGIN:VEVENT
DTSTART;TZID=UTC:20220721T110000
DTEND;TZID=UTC:20220721T123000
DTSTAMP:20260419T203501
CREATED:20220627T213940Z
LAST-MODIFIED:20220630T181650Z
UID:3498-1658401200-1658406600@channelchiefs.ca
SUMMARY:CIO Insider Series – Focusing on Data Management
DESCRIPTION:Many CIOs also hold the role of Chief Data Officer (CDO). As per IDC\, data is growing at 63% month over month (1). The costs associated with managing and storing data across a plethora of repositories makes data understanding and management a critical component of any digital transformation initiative. Not to mention the security risks associated with not having a data management program along with the lost employee productivity of not being able to find what they need when they need it.Please join: Corinne Sharp\, President of the Canadian Channel Chiefs Council and CRO at Shinydocs who will get deep into the data conversation with: \n  \nRita Lazar-Tippe\nDirector\, Data Insights\, AI\, Corporate Innovation\, and IT Operations\, Alberta Pension Services Corporation\nTreasurer CIO Association of Canada and 2021 CIO of the Year \nRaj Thukral  \nCTO for APX Data \nBoard Member CIO Association of Canada \n  \nCorinne Sharp \nPresident – Canadian Channel Chiefs Council \nCRO – Shinydocs \n\n\nRegister Here
URL:https://channelchiefs.ca/professional-development/cio-insider-series-focusing-on-data-management/
END:VEVENT
END:VCALENDAR