BEGIN:VCALENDAR
VERSION:2.0
PRODID:-//Canadian Channel Chiefs Council - ECPv6.9.1//NONSGML v1.0//EN
CALSCALE:GREGORIAN
METHOD:PUBLISH
X-ORIGINAL-URL:https://channelchiefs.ca
X-WR-CALDESC:Events for Canadian Channel Chiefs Council
REFRESH-INTERVAL;VALUE=DURATION:PT1H
X-Robots-Tag:noindex
X-PUBLISHED-TTL:PT1H
BEGIN:VTIMEZONE
TZID:America/Toronto
BEGIN:DAYLIGHT
TZOFFSETFROM:-0500
TZOFFSETTO:-0400
TZNAME:EDT
DTSTART:20220313T070000
END:DAYLIGHT
BEGIN:STANDARD
TZOFFSETFROM:-0400
TZOFFSETTO:-0500
TZNAME:EST
DTSTART:20221106T060000
END:STANDARD
END:VTIMEZONE
BEGIN:VEVENT
DTSTART;TZID=America/Toronto:20220616T110000
DTEND;TZID=America/Toronto:20220616T130000
DTSTAMP:20260419T220815
CREATED:20220530T230204Z
LAST-MODIFIED:20220530T230204Z
UID:3490-1655377200-1655384400@channelchiefs.ca
SUMMARY:C4 Marketing Luncheon - Event Readiness
DESCRIPTION:“Memory is deceptive because it is colored by today’s events.” Albert Einstein \nWe’re excited to announce our next luncheon on June 16th\, 2022 from 11am – 1pm ET. Our theme for this luncheon is Event Readiness. \nAre today’s events back to in-person\, hybrid\, virtual or all of the above? The world is starting to kick-start in-person events after over 2 years of virtual events. Are we ready? Are you ready \nAs marketing leaders\, let’s get together and talk about strategies for future events and what that looks like within the tech sector. Our C4 marketing luncheons always drive incredible conversations and best practice sharing for our members. This hot topic will be no different. \nThank you to Ingram Micro for continuing to support our C4 marketing luncheons. \nWe will continue virtually for this event as we discuss what is the future for tech events in Canada and beyond. \nJoin us on June 16th\, 2022 at 11am ET and bring your burning questions. Please confirm your attendance by registering below: \n\nThanks to the sponsorship of Ingram Micro\, a $15 Uber Eats discount code will be provided for you to use at your convenience.
URL:https://channelchiefs.ca/professional-development/c4-marketing-luncheon-event-readiness/
END:VEVENT
BEGIN:VEVENT
DTSTART;TZID=America/Toronto:20220622T110000
DTEND;TZID=America/Toronto:20220622T130000
DTSTAMP:20260419T220815
CREATED:20220504T210232Z
LAST-MODIFIED:20220504T210232Z
UID:3455-1655895600-1655902800@channelchiefs.ca
SUMMARY:Channel Chiefs Council AGM
DESCRIPTION:Join us on Wednesday\, June 22nd\, 2022\, for our Channel Chiefs Council Annual General Meeting. We will discuss news\, updates\, and continue our conversation on plans for 2022.
URL:https://channelchiefs.ca/professional-development/channel-chiefs-council-agm/
END:VEVENT
END:VCALENDAR