BEGIN:VCALENDAR
VERSION:2.0
PRODID:-//Canadian Channel Chiefs Council - ECPv6.9.1//NONSGML v1.0//EN
CALSCALE:GREGORIAN
METHOD:PUBLISH
X-WR-CALNAME:Canadian Channel Chiefs Council
X-ORIGINAL-URL:https://channelchiefs.ca
X-WR-CALDESC:Events for Canadian Channel Chiefs Council
REFRESH-INTERVAL;VALUE=DURATION:PT1H
X-Robots-Tag:noindex
X-PUBLISHED-TTL:PT1H
BEGIN:VTIMEZONE
TZID:America/Toronto
BEGIN:DAYLIGHT
TZOFFSETFROM:-0500
TZOFFSETTO:-0400
TZNAME:EDT
DTSTART:20210314T070000
END:DAYLIGHT
BEGIN:STANDARD
TZOFFSETFROM:-0400
TZOFFSETTO:-0500
TZNAME:EST
DTSTART:20211107T060000
END:STANDARD
END:VTIMEZONE
BEGIN:VEVENT
DTSTART;TZID=America/Toronto:20211104T113000
DTEND;TZID=America/Toronto:20211104T130000
DTSTAMP:20260420T085018
CREATED:20211021T223106Z
LAST-MODIFIED:20211027T011537Z
UID:3376-1636025400-1636030800@channelchiefs.ca
SUMMARY:Channel Marketing Professionals Luncheon
DESCRIPTION:MDF of the Future\nJoin your marketing colleagues from across Canada on November 4 at 11:30 am ET\, for a 90-minute conversation. \nOur theme for the Luncheon is MDF of the Future\, where we will discuss the good\, the bad\, and the ugly from our channel partners viewpoints. \nAgenda:\nOpening remarks from President Corinne Sharp\nKeynote discussion featuring Cheryl Stookes\, VP\, Revenue Growth and Operations at Softchoice\, Author & Speaker\nOpen discussion and Q&A \n\n\nWe are pleased to have Ingram Micro as the sponsor for this virtual event. \nThanks to the sponsorship of Ingram Micro\, a $15 Uber Eats discount code will be provided for you to use at your convenience. \n \n\nRegistration Form
URL:https://channelchiefs.ca/professional-development/channel-marketing-professionals-luncheon-2/
LOCATION:Virtual
END:VEVENT
END:VCALENDAR