BEGIN:VCALENDAR
VERSION:2.0
PRODID:-//Canadian Channel Chiefs Council - ECPv6.9.1//NONSGML v1.0//EN
CALSCALE:GREGORIAN
METHOD:PUBLISH
X-ORIGINAL-URL:https://channelchiefs.ca
X-WR-CALDESC:Events for Canadian Channel Chiefs Council
REFRESH-INTERVAL;VALUE=DURATION:PT1H
X-Robots-Tag:noindex
X-PUBLISHED-TTL:PT1H
BEGIN:VTIMEZONE
TZID:America/Halifax
BEGIN:DAYLIGHT
TZOFFSETFROM:-0400
TZOFFSETTO:-0300
TZNAME:ADT
DTSTART:20210314T060000
END:DAYLIGHT
BEGIN:STANDARD
TZOFFSETFROM:-0300
TZOFFSETTO:-0400
TZNAME:AST
DTSTART:20211107T050000
END:STANDARD
END:VTIMEZONE
BEGIN:VEVENT
DTSTART;TZID=America/Halifax:20210708T063000
DTEND;TZID=America/Halifax:20210708T080000
DTSTAMP:20260420T150353
CREATED:20210513T153435Z
LAST-MODIFIED:20210609T231328Z
UID:3308-1625725800-1625731200@channelchiefs.ca
SUMMARY:CIO Insider with Catherine Chick and Alex Buhler
DESCRIPTION:Join us for the second CIO Insider event of 2021. The 90-minute virtual session will feature an opportunity to ask two influential CIOs their views on the approaches – good and bad – taken by the vendor community. This is a private\, off-the-record discussion to allow for a frank exchange of ideas. \nCanadian Channel Chief President Corinne Sharp will lead the cameras on discussion with Catherine Chick\, Senior VP of Technology with Canada Goose and Alex Buhler\, CTO\, Indochino. \n  \nAlex BuhlerIndochino\nAlex Buhler is the CTO with Indochino\, a global leader in custom apparel. He has 20 years of experience in technology. He joined Indochino two years ago after working as CTO at Clearly\, Canada’s number one eyewear site\, and CIO at Mountain Equipment Co-op. Indochino has over 50 showrooms across Canada and the United States and before the pandemic added Australia as its first non-North American operation. The company is headquartered in Vancouver with offices in Dalian\, China. It employs 600 people globally. Alex is responsible for the company’s omnichannel experience and he works closely with the organization’s management team. \n\n\n  \n  \n  \n  \n\n\nCatherine Chick\, Senior Vice President\, IT\, Canada Goose\nCatherine Chick is Senior Vice President\, IT at Canada Goose where she sets the strategic direction for technology to sustain business growth and operations globally. Prior to Canada Goose\, she held senior leadership roles in manufacturing\, public sector\, research/higher education and technology in Canada and the United States. She understands that technology success relies as much on organizational change management as it does on delivery and operations. Her strategic vision is centered on the effective use of technology to differentiate a business and foster transformative change. Catherine is an active member of the CIO community as a Board member of the CIO Association of Canada. \n  \n  \n  \n  \nCost \nC4 Members: No cost \nNon-members: $25 \n\n\n\nNon Member Payment Form
URL:https://channelchiefs.ca/professional-development/cio-insider-with-catherine-chick-and-alex-buhler/
LOCATION:Virtual
ORGANIZER;CN="ITWC":MAILTO:Sproctor@itwc.ca
END:VEVENT
END:VCALENDAR