BEGIN:VCALENDAR
VERSION:2.0
PRODID:-//Canadian Channel Chiefs Council - ECPv6.9.1//NONSGML v1.0//EN
CALSCALE:GREGORIAN
METHOD:PUBLISH
X-WR-CALNAME:Canadian Channel Chiefs Council
X-ORIGINAL-URL:https://channelchiefs.ca
X-WR-CALDESC:Events for Canadian Channel Chiefs Council
REFRESH-INTERVAL;VALUE=DURATION:PT1H
X-Robots-Tag:noindex
X-PUBLISHED-TTL:PT1H
BEGIN:VTIMEZONE
TZID:UTC
BEGIN:STANDARD
TZOFFSETFROM:+0000
TZOFFSETTO:+0000
TZNAME:UTC
DTSTART:20200101T000000
END:STANDARD
END:VTIMEZONE
BEGIN:VEVENT
DTSTART;TZID=UTC:20200805T130000
DTEND;TZID=UTC:20200805T140000
DTSTAMP:20260421T072553
CREATED:20200804T162838Z
LAST-MODIFIED:20200804T162838Z
UID:3120-1596632400-1596636000@channelchiefs.ca
SUMMARY:IDC's Steve White featured on CMO Talks podcast
DESCRIPTION:  \n\nSteve White\, IDC’s Program Vice President for the Channels and Alliances Team\, sits down with ITWC’s President Fawn Annan for an in-depth discussion around strategic alliance investments for the partner ecosystem within the current Canadian channel marketing landscape. The discussion covers MDF funding and portal strategies for both large and smaller channel marketers with insights on how they can receive better vendor support for their marketing programs. \nCMO TALKS is a bi-weekly podcast focused on marketing and technology. Episodes can be downloaded on the CMO Digital website or wherever you find your favourite podcast. \n 
URL:https://channelchiefs.ca/professional-development/idcs-steve-white-featured-on-cmo-talks-podcast/
END:VEVENT
BEGIN:VEVENT
DTSTART;TZID=UTC:20200818T160000
DTEND;TZID=UTC:20200818T164400
DTSTAMP:20260421T072553
CREATED:20200629T220232Z
LAST-MODIFIED:20200629T220539Z
UID:3106-1597766400-1597769040@channelchiefs.ca
SUMMARY:C4 Channel Touchbase
DESCRIPTION:With the COVID-19 pandemic making in-person meetings difficult\, C4 members are gathering virtually once every three weeks for a 44-minute check-in. During each session\, members discuss their current challenges and test possible solutions with their colleagues. It is informal and informative. Highlights of the discussions can be found in the news section of this website. \nFor login credentials contact: sshabbar@itwc.ca
URL:https://channelchiefs.ca/professional-development/c4-channel-touchbase/
LOCATION:virtual
ORGANIZER;CN="Steve Proctor":MAILTO:sproctor@itwc.ca
END:VEVENT
BEGIN:VEVENT
DTSTART;TZID=UTC:20200820T113000
DTEND;TZID=UTC:20200820T160000
DTSTAMP:20260421T072553
CREATED:20200119T235708Z
LAST-MODIFIED:20200120T033836Z
UID:3003-1597923000-1597939200@channelchiefs.ca
SUMMARY:CDN Women in the IT Channel Recognition Luncheon
DESCRIPTION:The Canadian Channel Chiefs Council is pleased to be a sponsor of the 10th anniversary of this luncheon celebrating the accomplishments women in the Channel. \nThe 2020 edition will include a guest speaker\,  honour three worthy industry veterans with induction into the Women in the IT Channel Hall of Fame\, and some special surprises. \nDetails: Women in the IT Channel website
URL:https://channelchiefs.ca/professional-development/cdn-women-in-the-it-channel-recognition-luncheon/
ATTACH;FMTTYPE=image/jpeg:https://channelchiefs.ca/wp-content/uploads/2020/01/391A0133-scaled.jpg
END:VEVENT
END:VCALENDAR