BEGIN:VCALENDAR
VERSION:2.0
PRODID:-//Canadian Channel Chiefs Council - ECPv6.9.1//NONSGML v1.0//EN
CALSCALE:GREGORIAN
METHOD:PUBLISH
X-ORIGINAL-URL:https://channelchiefs.ca
X-WR-CALDESC:Events for Canadian Channel Chiefs Council
REFRESH-INTERVAL;VALUE=DURATION:PT1H
X-Robots-Tag:noindex
X-PUBLISHED-TTL:PT1H
BEGIN:VTIMEZONE
TZID:America/Toronto
BEGIN:DAYLIGHT
TZOFFSETFROM:-0500
TZOFFSETTO:-0400
TZNAME:EDT
DTSTART:20220313T070000
END:DAYLIGHT
BEGIN:STANDARD
TZOFFSETFROM:-0400
TZOFFSETTO:-0500
TZNAME:EST
DTSTART:20221106T060000
END:STANDARD
END:VTIMEZONE
BEGIN:VEVENT
DTSTART;TZID=America/Toronto:20220217T103000
DTEND;TZID=America/Toronto:20220217T140000
DTSTAMP:20260420T054834
CREATED:20220128T191207Z
LAST-MODIFIED:20220128T191207Z
UID:3414-1645093800-1645106400@channelchiefs.ca
SUMMARY:VMware Canada Partner Leadership Summit
DESCRIPTION:Exclusive invitation to the VMware Canada Partner Leadership Summit \n  \nTo demonstrate VMware’s continuous commitment to our Canadian Partner Community\, VMWare has developed a content-rich program uniquely designed with their Canadian partners’ business needs in mind. Please join virtually on February 17\, 2022\, from 10:30 a.m.– 2:00 p.m. EST to hear from both their Global Partner team and their Canadian Leadership team who will share VMware’s vision\, strategies\, and priorities for 2022. \n  \nThis is your exclusive opportunity to: \n\nHear directly from VMware executives and channel leaders about VMware’s company strategy\, future direction and roadmap\nGet a sneak peek at the current and future state of VMware Partner Programs\, Incentives and Services\nHear from VMware’s key business unit leaders during the technology panel\nUnderstand how the focus on SaaS and consumption is key to VMware’s strategy and GTM\n\n  \nRegister here
URL:https://channelchiefs.ca/professional-development/vmware-canada-partner-leadership-summit/
LOCATION:Virtual
ATTACH;FMTTYPE=image/png:https://channelchiefs.ca/wp-content/uploads/2022/01/VMW_09Q3_LOGO_Corp_Gray.png
END:VEVENT
END:VCALENDAR