BEGIN:VCALENDAR
VERSION:2.0
PRODID:-//Canadian Channel Chiefs Council - ECPv6.9.1//NONSGML v1.0//EN
CALSCALE:GREGORIAN
METHOD:PUBLISH
X-ORIGINAL-URL:https://channelchiefs.ca
X-WR-CALDESC:Events for Canadian Channel Chiefs Council
REFRESH-INTERVAL;VALUE=DURATION:PT1H
X-Robots-Tag:noindex
X-PUBLISHED-TTL:PT1H
BEGIN:VTIMEZONE
TZID:UTC
BEGIN:STANDARD
TZOFFSETFROM:+0000
TZOFFSETTO:+0000
TZNAME:UTC
DTSTART:20210101T000000
END:STANDARD
END:VTIMEZONE
BEGIN:VEVENT
DTSTART;TZID=UTC:20210428T123000
DTEND;TZID=UTC:20210428T150000
DTSTAMP:20260420T194959
CREATED:20210223T185336Z
LAST-MODIFIED:20210223T185336Z
UID:3278-1619613000-1619622000@channelchiefs.ca
SUMMARY:Channel Innovation Awards
DESCRIPTION:The Canadian Channel Chiefs Council is a proud supporter of the 2021 CDN Channel Innovation Awards set for April 28. \nChannel Innovation Awards 2021 is an opportunity for both celebration and advancement. It will honour the channel’s top players by revenue with the release of the Top 100 Solution Providers Ranking and the achievements of IT innovators with six Channel Innovation Awards.  The event’s panels and presentations will provide guidance on the top issues facing channel players. \n  \n 
URL:https://channelchiefs.ca/professional-development/channel-innovation-awards/
LOCATION:Virtual
ATTACH;FMTTYPE=image/png:https://channelchiefs.ca/wp-content/uploads/2021/02/Screen-Shot-2021-01-14-at-6.54.57-PM.png
ORGANIZER;CN="ITWC":MAILTO:Sproctor@itwc.ca
END:VEVENT
END:VCALENDAR