BEGIN:VCALENDAR
VERSION:2.0
PRODID:-//Canadian Channel Chiefs Council - ECPv6.9.1//NONSGML v1.0//EN
CALSCALE:GREGORIAN
METHOD:PUBLISH
X-WR-CALNAME:Canadian Channel Chiefs Council
X-ORIGINAL-URL:https://channelchiefs.ca
X-WR-CALDESC:Events for Canadian Channel Chiefs Council
REFRESH-INTERVAL;VALUE=DURATION:PT1H
X-Robots-Tag:noindex
X-PUBLISHED-TTL:PT1H
BEGIN:VTIMEZONE
TZID:UTC
BEGIN:STANDARD
TZOFFSETFROM:+0000
TZOFFSETTO:+0000
TZNAME:UTC
DTSTART:20200101T000000
END:STANDARD
END:VTIMEZONE
BEGIN:VEVENT
DTSTART;TZID=UTC:20200818T160000
DTEND;TZID=UTC:20200818T164400
DTSTAMP:20260421T084215
CREATED:20200629T220232Z
LAST-MODIFIED:20200629T220539Z
UID:3106-1597766400-1597769040@channelchiefs.ca
SUMMARY:C4 Channel Touchbase
DESCRIPTION:With the COVID-19 pandemic making in-person meetings difficult\, C4 members are gathering virtually once every three weeks for a 44-minute check-in. During each session\, members discuss their current challenges and test possible solutions with their colleagues. It is informal and informative. Highlights of the discussions can be found in the news section of this website. \nFor login credentials contact: sshabbar@itwc.ca
URL:https://channelchiefs.ca/professional-development/c4-channel-touchbase/
LOCATION:virtual
ORGANIZER;CN="Steve Proctor":MAILTO:sproctor@itwc.ca
END:VEVENT
END:VCALENDAR