BEGIN:VCALENDAR
VERSION:2.0
PRODID:-//Canadian Channel Chiefs Council - ECPv6.9.1//NONSGML v1.0//EN
CALSCALE:GREGORIAN
METHOD:PUBLISH
X-WR-CALNAME:Canadian Channel Chiefs Council
X-ORIGINAL-URL:https://channelchiefs.ca
X-WR-CALDESC:Events for Canadian Channel Chiefs Council
REFRESH-INTERVAL;VALUE=DURATION:PT1H
X-Robots-Tag:noindex
X-PUBLISHED-TTL:PT1H
BEGIN:VTIMEZONE
TZID:UTC
BEGIN:STANDARD
TZOFFSETFROM:+0000
TZOFFSETTO:+0000
TZNAME:UTC
DTSTART:20200101T000000
END:STANDARD
END:VTIMEZONE
BEGIN:VEVENT
DTSTART;TZID=UTC:20200402T080000
DTEND;TZID=UTC:20200402T170000
DTSTAMP:20260421T142514
CREATED:20200119T234414Z
LAST-MODIFIED:20200120T034222Z
UID:2998-1585814400-1585846800@channelchiefs.ca
SUMMARY:Channel Professionals Marketing Dinner
DESCRIPTION:A discussion over dinner exploring one of the pressing challenges in Channel Marketing.
URL:https://channelchiefs.ca/professional-development/channel-professionals-marketing-dinner/
ATTACH;FMTTYPE=image/jpeg:https://channelchiefs.ca/wp-content/uploads/2020/01/Final-C4-Pictures-6.jpg
END:VEVENT
END:VCALENDAR