BEGIN:VCALENDAR
VERSION:2.0
PRODID:-//Canadian Channel Chiefs Council - ECPv6.9.1//NONSGML v1.0//EN
CALSCALE:GREGORIAN
METHOD:PUBLISH
X-ORIGINAL-URL:https://channelchiefs.ca
X-WR-CALDESC:Events for Canadian Channel Chiefs Council
REFRESH-INTERVAL;VALUE=DURATION:PT1H
X-Robots-Tag:noindex
X-PUBLISHED-TTL:PT1H
BEGIN:VTIMEZONE
TZID:UTC
BEGIN:STANDARD
TZOFFSETFROM:+0000
TZOFFSETTO:+0000
TZNAME:UTC
DTSTART:20190101T000000
END:STANDARD
END:VTIMEZONE
BEGIN:VEVENT
DTSTART;TZID=UTC:20191211T123000
DTEND;TZID=UTC:20191211T163000
DTSTAMP:20260421T203228
CREATED:20191001T163029Z
LAST-MODIFIED:20191001T165947Z
UID:2820-1576067400-1576081800@channelchiefs.ca
SUMMARY:Board & General Meeting
DESCRIPTION:The Canadian Channel Chief Fall meeting. \nThe meeting will start at 12:30 pm with a light lunch. \nThe Board meeting and strategy discussions will be followed by the general meeting and workshop. \nNetworking will follow.
URL:https://channelchiefs.ca/professional-development/board-general-meeting/
LOCATION:Verity Club\, 111 Queen St E.\, Toronto\, Ontario\, M5C1S2\, Canada
ATTACH;FMTTYPE=image/jpeg:https://channelchiefs.ca/wp-content/uploads/2019/10/20181204_150312.jpg
END:VEVENT
BEGIN:VEVENT
DTSTART;TZID=UTC:20191211T170000
DTEND;TZID=UTC:20191211T203000
DTSTAMP:20260421T203228
CREATED:20191001T165620Z
LAST-MODIFIED:20191028T164733Z
UID:2823-1576083600-1576096200@channelchiefs.ca
SUMMARY:C4 Marketing Professionals Dinner
DESCRIPTION:This is an opportunity for Channel Marketing Professionals to gather together for an evening of dinner and discussion with their marketing peers. Around the table\, we will be exploring Digital Discovery and how to engage your partners in the process to scale both your businesses. \nDigital Discovery is redefining leads and focusing marketing efforts in sometimes unfamiliar areas. \nWhat is it really? What are the new best practices? How do you engage partners to join you in the effort?  These are some of the questions we’ll be tackling. \nDigital Discovery themes up for discussion include: \n\nPersona development\nMessaging framework\nContent strategy\nLead capture audits\nLead nurturing\nFilling the conversion funnel\n\n  \nHost: Jennifer Villers\, Marketing Leader\, Ingram Micro Canada \nModerators: Fawn Annan\, C4 Chair and Corinne Sharp\, C4 President \nFind out what your peers are doing to drive key corporate success metrics. \nFirst come\, first serve (Max. 20 attendees) \nAttendance is limited to representatives and designates from C4 member companies \nRSVP Today: Donna Butts – dbutts@itwc.ca \nSpecial thanks to Ingram Micro for its continuing sponsorship of this dinner series.
URL:https://channelchiefs.ca/professional-development/c4-marketing-professionals-dinner/
LOCATION:Verity Club\, 111 Queen St E.\, Toronto\, Ontario\, M5C1S2\, Canada
ATTACH;FMTTYPE=image/jpeg:https://channelchiefs.ca/wp-content/uploads/2014/02/100696413.jpg
END:VEVENT
END:VCALENDAR